BEGIN:VCALENDAR
VERSION:2.0
CALSCALE:GREGORIAN
PRODID:-//Diputació de Barcelona//DibaCMS//EN
BEGIN:VEVENT
UID:3438
DTSTAMP:20260422T133515
DTSTART:20190722T170000
DTEND:20190722T200000
SUMMARY:Festa Major 2019 - Exposició de pintura
LOCATION:Mestre Saura, 5-B El Pont de Vilomara i Rocafort
METHOD:PUBLISH
X-WR-CALNAME:info.pont@elpont.cat
X-WR-TIMEZONE:Europe/Madrid
DESCRIPTION:
URI:https://www.elpont.cat/actualitat/agenda/3438-festa-major-2019-exposicio-de-pintura.html
CLASS:PUBLIC
END:VEVENT
END:VCALENDAR
