BEGIN:VCALENDAR
VERSION:2.0
CALSCALE:GREGORIAN
PRODID:-//Diputació de Barcelona//DibaCMS//EN
BEGIN:VEVENT
UID:3439
DTSTAMP:20260423T055708
DTSTART:20190722T210000
DTEND:20190722T210000
SUMMARY:Festa Major 2019 - Havaneres
LOCATION:Plaça Major 08254 El Pont de Vilomara i Rocafort
METHOD:PUBLISH
X-WR-CALNAME:info.pont@elpont.cat
X-WR-TIMEZONE:Europe/Madrid
DESCRIPTION:Amb el grup Oreig de Mar de l'Escala.

Hi haurà degustació de rom ofert per l'Associació de Pesca del Pont de Vilomara i Rocafort.

URI:https://www.elpont.cat/actualitat/agenda/festa-major-2019-havaneres.html
CLASS:PUBLIC
END:VEVENT
END:VCALENDAR
