BEGIN:VCALENDAR
VERSION:2.0
CALSCALE:GREGORIAN
PRODID:-//Diputació de Barcelona//DibaCMS//EN
BEGIN:VEVENT
UID:3450
DTSTAMP:20260423T023601
DTSTART:20190809T223000
DTEND:20190809T223000
SUMMARY:Festa Major de Rocafort - Pregó
LOCATION:Sala del Tap 
METHOD:PUBLISH
X-WR-CALNAME:info.pont@elpont.cat
X-WR-TIMEZONE:Europe/Madrid
DESCRIPTION:
URI:https://www.elpont.cat/actualitat/agenda/3450-festa-major-de-rocafort-prego.html
CLASS:PUBLIC
END:VEVENT
END:VCALENDAR
