BEGIN:VCALENDAR
VERSION:2.0
CALSCALE:GREGORIAN
PRODID:-//Diputació de Barcelona//DibaCMS//EN
BEGIN:VEVENT
UID:3451
DTSTAMP:20260422T172903
DTSTART:20190809T224500
DTEND:20190809T224500
SUMMARY:Festa Major de Rocafort - Pel·lícula a la fresca
LOCATION:Plaça Nova 
METHOD:PUBLISH
X-WR-CALNAME:info.pont@elpont.cat
X-WR-TIMEZONE:Europe/Madrid
DESCRIPTION:La La Land.

Hi haurà servei de crispetes i begudes.

URI:https://www.elpont.cat/actualitat/agenda/festa-major-de-rocafort-pellicula-a-la-fresca.html
CLASS:PUBLIC
END:VEVENT
END:VCALENDAR
