BEGIN:VCALENDAR
VERSION:2.0
CALSCALE:GREGORIAN
PRODID:-//Diputació de Barcelona//DibaCMS//EN
BEGIN:VEVENT
UID:3452
DTSTAMP:20260422T120518
DTSTART:20190810T103000
DTEND:20190810T103000
SUMMARY:Festa Major de Rocafort - Taller de pa
LOCATION:Cal Jaumet 
METHOD:PUBLISH
X-WR-CALNAME:info.pont@elpont.cat
X-WR-TIMEZONE:Europe/Madrid
DESCRIPTION:Cal portar drap de cotó, davantal i un bol. Qui vulgui pot portar conill o pollastre per coure.

URI:https://www.elpont.cat/actualitat/agenda/3452-festa-major-de-rocafort-taller-de-pa.html
CLASS:PUBLIC
END:VEVENT
END:VCALENDAR
