BEGIN:VCALENDAR
VERSION:2.0
CALSCALE:GREGORIAN
PRODID:-//Diputació de Barcelona//DibaCMS//EN
BEGIN:VEVENT
UID:3453
DTSTAMP:20260422T180054
DTSTART:20190810T190000
DTEND:20190810T190000
SUMMARY:Festa Major de Rocafort - Inauguració de l'exposició de pintura "Dones" de Neus Suarez
LOCATION:Baixos Cal Rovira 
METHOD:PUBLISH
X-WR-CALNAME:info.pont@elpont.cat
X-WR-TIMEZONE:Europe/Madrid
DESCRIPTION:Organitza el Museu de Rocafort

URI:https://www.elpont.cat/actualitat/agenda/festa-major-de-rocafort-inauguracio-de-lexposicio-de-pintura-dones-de-neus-suarez.html
CLASS:PUBLIC
END:VEVENT
END:VCALENDAR
