BEGIN:VCALENDAR
VERSION:2.0
CALSCALE:GREGORIAN
PRODID:-//Diputació de Barcelona//DibaCMS//EN
BEGIN:VEVENT
UID:3454
DTSTAMP:20260422T132500
DTSTART:20190810T213000
DTEND:20190810T213000
SUMMARY:Festa Major de Rocafort - Pícnic i Karaoke
LOCATION:Plaça Nova 
METHOD:PUBLISH
X-WR-CALNAME:info.pont@elpont.cat
X-WR-TIMEZONE:Europe/Madrid
DESCRIPTION:Cadascú porta el seu menjar i paraments. Taules i cadires a càrrec de l'Associació.

URI:https://www.elpont.cat/actualitat/agenda/festa-major-de-rocafort-picnic-i-karaoke.html
CLASS:PUBLIC
END:VEVENT
END:VCALENDAR
