BEGIN:VCALENDAR
VERSION:2.0
CALSCALE:GREGORIAN
PRODID:-//Diputació de Barcelona//DibaCMS//EN
BEGIN:VEVENT
UID:3455
DTSTAMP:20260422T160732
DTSTART:20190811T190000
DTEND:20190811T190000
SUMMARY:Festa Major de Rocafort - Pedalada popular de la Rocafortina
LOCATION:Plaça Gran 
METHOD:PUBLISH
X-WR-CALNAME:info.pont@elpont.cat
X-WR-TIMEZONE:Europe/Madrid
DESCRIPTION:
URI:https://www.elpont.cat/actualitat/agenda/festa-major-de-rocafort-pedalada-popular-de-la-rocafortina.html
CLASS:PUBLIC
END:VEVENT
END:VCALENDAR
