BEGIN:VCALENDAR
VERSION:2.0
CALSCALE:GREGORIAN
PRODID:-//Diputació de Barcelona//DibaCMS//EN
BEGIN:VEVENT
UID:3456
DTSTAMP:20260422T184037
DTSTART:20190811T230000
DTEND:20190811T230000
SUMMARY:Festa Major de Rocafort - Curtmetratge: Finals
LOCATION:En algun lloc suggeridor del poble 
METHOD:PUBLISH
X-WR-CALNAME:info.pont@elpont.cat
X-WR-TIMEZONE:Europe/Madrid
DESCRIPTION:A càrrec de Joan Cusidó i Lluís Manyoses.

Amb lectura de poemes a càrrec d'Esteve Gorina.

URI:https://www.elpont.cat/actualitat/agenda/festa-major-de-rocafort-curtmetratge-finals.html
CLASS:PUBLIC
END:VEVENT
END:VCALENDAR
