BEGIN:VCALENDAR
VERSION:2.0
CALSCALE:GREGORIAN
PRODID:-//Diputació de Barcelona//DibaCMS//EN
BEGIN:VEVENT
UID:3458
DTSTAMP:20260423T013100
DTSTART:20190812T180000
DTEND:20190812T180000
SUMMARY:Festa Major de Rocafort - Caminada popular
LOCATION:Sortida des de la Plaça Gran 
METHOD:PUBLISH
X-WR-CALNAME:info.pont@elpont.cat
X-WR-TIMEZONE:Europe/Madrid
DESCRIPTION:A càrrec del Frans Guardiola.

Hi haurà aprovisionament de fruita i beguda.

URI:https://www.elpont.cat/actualitat/agenda/3458-festa-major-de-rocafort-caminada-popular.html
CLASS:PUBLIC
END:VEVENT
END:VCALENDAR
