BEGIN:VCALENDAR
VERSION:2.0
CALSCALE:GREGORIAN
PRODID:-//Diputació de Barcelona//DibaCMS//EN
BEGIN:VEVENT
UID:3459
DTSTAMP:20260423T000134
DTSTART:20190813T110000
DTEND:20190813T110000
SUMMARY:Festa Major de Rocafort - Movem-nos: Aigua Gim
LOCATION:Piscina Guanyabens 
METHOD:PUBLISH
X-WR-CALNAME:info.pont@elpont.cat
X-WR-TIMEZONE:Europe/Madrid
DESCRIPTION:11:00 h. Torn dels nens.

12:00 h. Torn dels adults.

A càrrec de Ruben Gallart.

URI:https://www.elpont.cat/actualitat/agenda/festa-major-de-rocafort-movem-nos-aigua-gim.html
CLASS:PUBLIC
END:VEVENT
END:VCALENDAR
