BEGIN:VCALENDAR
VERSION:2.0
CALSCALE:GREGORIAN
PRODID:-//Diputació de Barcelona//DibaCMS//EN
BEGIN:VEVENT
UID:3460
DTSTAMP:20260423T035739
DTSTART:20190813T190000
DTEND:20190813T190000
SUMMARY:Festa Major de Rocafort - Small House
LOCATION:Rectoria 
METHOD:PUBLISH
X-WR-CALNAME:info.pont@elpont.cat
X-WR-TIMEZONE:Europe/Madrid
DESCRIPTION:Hi haurà un petit soparet per als nens i nenes. 

Edat límit per entrar a la pista de ball, 12 anys.

URI:https://www.elpont.cat/actualitat/agenda/festa-major-de-rocafort-small-house.html
CLASS:PUBLIC
END:VEVENT
END:VCALENDAR
