BEGIN:VCALENDAR
VERSION:2.0
CALSCALE:GREGORIAN
PRODID:-//Diputació de Barcelona//DibaCMS//EN
BEGIN:VEVENT
UID:3461
DTSTAMP:20260422T132531
DTSTART:20190814T100000
DTEND:20190814T100000
SUMMARY:Festa Major de Rocafort - Movem-nos
LOCATION:Plaça Nova 
METHOD:PUBLISH
X-WR-CALNAME:info.pont@elpont.cat
X-WR-TIMEZONE:Europe/Madrid
DESCRIPTION:A càrrec del Ruben Gallart.

URI:https://www.elpont.cat/actualitat/agenda/festa-major-de-rocafort-movem-nos.html
CLASS:PUBLIC
END:VEVENT
END:VCALENDAR
