BEGIN:VCALENDAR
VERSION:2.0
CALSCALE:GREGORIAN
PRODID:-//Diputació de Barcelona//DibaCMS//EN
BEGIN:VEVENT
UID:3462
DTSTAMP:20260422T160504
DTSTART:20190814T120000
DTEND:20190814T120000
SUMMARY:Festa Major de Rocafort - Taller científic
LOCATION:Plaça Nova 
METHOD:PUBLISH
X-WR-CALNAME:info.pont@elpont.cat
X-WR-TIMEZONE:Europe/Madrid
DESCRIPTION:A càrrec de la Meri Monteys.

URI:https://www.elpont.cat/actualitat/agenda/festa-major-de-rocafort-taller-cientific.html
CLASS:PUBLIC
END:VEVENT
END:VCALENDAR
