BEGIN:VCALENDAR
VERSION:2.0
CALSCALE:GREGORIAN
PRODID:-//Diputació de Barcelona//DibaCMS//EN
BEGIN:VEVENT
UID:3464
DTSTAMP:20260423T005352
DTSTART:20190815T093000
DTEND:20190815T093000
SUMMARY:Festa Major de Rocafort - Missa solemne
LOCATION:Església de Santa Maria 
METHOD:PUBLISH
X-WR-CALNAME:info.pont@elpont.cat
X-WR-TIMEZONE:Europe/Madrid
DESCRIPTION:
URI:https://www.elpont.cat/actualitat/agenda/3464-festa-major-de-rocafort-missa-solemne.html
CLASS:PUBLIC
END:VEVENT
END:VCALENDAR
