BEGIN:VCALENDAR
VERSION:2.0
CALSCALE:GREGORIAN
PRODID:-//Diputació de Barcelona//DibaCMS//EN
BEGIN:VEVENT
UID:3465
DTSTAMP:20260422T132414
DTSTART:20190815T160000
DTEND:20190815T160000
SUMMARY:Festa Major de Rocafort - Migdiada popular
LOCATION:Cadascú a casa seva ... o no. 
METHOD:PUBLISH
X-WR-CALNAME:info.pont@elpont.cat
X-WR-TIMEZONE:Europe/Madrid
DESCRIPTION:
URI:https://www.elpont.cat/actualitat/agenda/festa-major-de-rocafort-migdiada-popular.html
CLASS:PUBLIC
END:VEVENT
END:VCALENDAR
