BEGIN:VCALENDAR
VERSION:2.0
CALSCALE:GREGORIAN
PRODID:-//Diputació de Barcelona//DibaCMS//EN
BEGIN:VEVENT
UID:3466
DTSTAMP:20260422T160538
DTSTART:20190815T180000
DTEND:20190815T180000
SUMMARY:Festa Major de Rocafort - Espectacle infantil i xocolatada
LOCATION:Plaça Gran 
METHOD:PUBLISH
X-WR-CALNAME:info.pont@elpont.cat
X-WR-TIMEZONE:Europe/Madrid
DESCRIPTION:
URI:https://www.elpont.cat/actualitat/agenda/festa-major-de-rocafort-espectacle-infantil-i-xocolatada.html
CLASS:PUBLIC
END:VEVENT
END:VCALENDAR
