BEGIN:VCALENDAR
VERSION:2.0
CALSCALE:GREGORIAN
PRODID:-//Diputació de Barcelona//DibaCMS//EN
BEGIN:VEVENT
UID:3467
DTSTAMP:20260422T160632
DTSTART:20190816T110000
DTEND:20190816T110000
SUMMARY:Festa Major de Rocafort - Taller de cuina: sushi
LOCATION:Sala del Tap 
METHOD:PUBLISH
X-WR-CALNAME:info.pont@elpont.cat
X-WR-TIMEZONE:Europe/Madrid
DESCRIPTION:A càrrec del xef resident David Brunet.

Cal dir-ho a l'Astrid abans del 13 d'agost.

URI:https://www.elpont.cat/actualitat/agenda/festa-major-de-rocafort-taller-de-cuina-sushi.html
CLASS:PUBLIC
END:VEVENT
END:VCALENDAR
