BEGIN:VCALENDAR
VERSION:2.0
CALSCALE:GREGORIAN
PRODID:-//Diputació de Barcelona//DibaCMS//EN
BEGIN:VEVENT
UID:3468
DTSTAMP:20260423T015745
DTSTART:20190816T203000
DTEND:20190816T203000
SUMMARY:Festa Major de Rocafort - Ioga
LOCATION:Camp d'esports 
METHOD:PUBLISH
X-WR-CALNAME:info.pont@elpont.cat
X-WR-TIMEZONE:Europe/Madrid
DESCRIPTION:Cal dur la màrfega.

URI:https://www.elpont.cat/actualitat/agenda/festa-major-de-rocafort-ioga.html
CLASS:PUBLIC
END:VEVENT
END:VCALENDAR
