BEGIN:VCALENDAR
VERSION:2.0
CALSCALE:GREGORIAN
PRODID:-//Diputació de Barcelona//DibaCMS//EN
BEGIN:VEVENT
UID:3469
DTSTAMP:20260423T040342
DTSTART:20190816T230000
DTEND:20190816T230000
SUMMARY:Festa Major de Rocafort - Jazz a la fresca
LOCATION:Restaurant a la fresca 
METHOD:PUBLISH
X-WR-CALNAME:info.pont@elpont.cat
X-WR-TIMEZONE:Europe/Madrid
DESCRIPTION:Organitza el mateix restaurant.

URI:https://www.elpont.cat/actualitat/agenda/festa-major-de-rocafort-jazz-a-la-fresca.html
CLASS:PUBLIC
END:VEVENT
END:VCALENDAR
