BEGIN:VCALENDAR
VERSION:2.0
CALSCALE:GREGORIAN
PRODID:-//Diputació de Barcelona//DibaCMS//EN
BEGIN:VEVENT
UID:3472
DTSTAMP:20260422T185344
DTSTART:20190817T230000
DTEND:20190817T230000
SUMMARY:Festa Major de Rocafort - DJ Big House
LOCATION:Rectoria 
METHOD:PUBLISH
X-WR-CALNAME:info.pont@elpont.cat
X-WR-TIMEZONE:Europe/Madrid
DESCRIPTION:A càrrec del DJ resident Marc Casagran.

URI:https://www.elpont.cat/actualitat/agenda/3472-festa-major-de-rocafort-dj-big-house.html
CLASS:PUBLIC
END:VEVENT
END:VCALENDAR
