BEGIN:VCALENDAR
VERSION:2.0
CALSCALE:GREGORIAN
PRODID:-//Diputació de Barcelona//DibaCMS//EN
BEGIN:VEVENT
UID:3473
DTSTAMP:20260422T235239
DTSTART:20190818T223000
DTEND:20190818T223000
SUMMARY:Festa Major de Rocafort - Concert Quartet Calders
LOCATION:Església de Santa Maria 
METHOD:PUBLISH
X-WR-CALNAME:info.pont@elpont.cat
X-WR-TIMEZONE:Europe/Madrid
DESCRIPTION:Organitza el Museu de Rocafort.

URI:https://www.elpont.cat/actualitat/agenda/festa-major-de-rocafort-concert-quartet-calders.html
CLASS:PUBLIC
END:VEVENT
END:VCALENDAR
