BEGIN:VCALENDAR
VERSION:2.0
CALSCALE:GREGORIAN
PRODID:-//Diputació de Barcelona//DibaCMS//EN
BEGIN:VEVENT
UID:3474
DTSTAMP:20260423T032921
DTSTART:20190821T223000
DTEND:20190821T223000
SUMMARY:Festa Major de Rocafort - Joc de nit
LOCATION:Plaça Gran 
METHOD:PUBLISH
X-WR-CALNAME:info.pont@elpont.cat
X-WR-TIMEZONE:Europe/Madrid
DESCRIPTION:Per a mainada a partir de 6 anys.

URI:https://www.elpont.cat/actualitat/agenda/3474-festa-major-de-rocafort-joc-de-nit.html
CLASS:PUBLIC
END:VEVENT
END:VCALENDAR
