BEGIN:VCALENDAR
VERSION:2.0
CALSCALE:GREGORIAN
PRODID:-//Diputació de Barcelona//DibaCMS//EN
BEGIN:VEVENT
UID:3476
DTSTAMP:20260423T062026
DTSTART:20190823T170000
DTEND:20190823T170000
SUMMARY:Festa Major de Rocafort - 12 Hores de cine
LOCATION:Plaça Nova 
METHOD:PUBLISH
X-WR-CALNAME:info.pont@elpont.cat
X-WR-TIMEZONE:Europe/Madrid
DESCRIPTION:A càrrec del Roger Vicente i el Ricard Guardiola.

URI:https://www.elpont.cat/actualitat/agenda/festa-major-de-rocafort-12-hores-de-cine.html
CLASS:PUBLIC
END:VEVENT
END:VCALENDAR
