BEGIN:VCALENDAR
VERSION:2.0
CALSCALE:GREGORIAN
PRODID:-//Diputació de Barcelona//DibaCMS//EN
BEGIN:VEVENT
UID:3477
DTSTAMP:20260423T061328
DTSTART:20190824T213000
DTEND:20190824T213000
SUMMARY:Festa Major de Rocafort - Cigronada i xou popular
LOCATION:Plaça Gran 
METHOD:PUBLISH
X-WR-CALNAME:info.pont@elpont.cat
X-WR-TIMEZONE:Europe/Madrid
DESCRIPTION:
URI:https://www.elpont.cat/actualitat/agenda/festa-major-de-rocafort-cigronada-i-xou-popular.html
CLASS:PUBLIC
END:VEVENT
END:VCALENDAR
