BEGIN:VCALENDAR
VERSION:2.0
CALSCALE:GREGORIAN
PRODID:-//Diputació de Barcelona//DibaCMS//EN
BEGIN:VEVENT
UID:3479
DTSTAMP:20260422T180237
DTSTART:20190729T133000
DTEND:20190729T133000
SUMMARY:Darrer dia per presentar documentació per la convocatòria de plans locals d'ocupació 2019
LOCATION:
METHOD:PUBLISH
X-WR-CALNAME:info.pont@elpont.cat
X-WR-TIMEZONE:Europe/Madrid
DESCRIPTION:
URI:https://www.elpont.cat/actualitat/agenda/darrer-dia-per-presentar-documentacio-per-la-convocatoria-de-plans-locals-docupacio-2019.html
CLASS:PUBLIC
END:VEVENT
END:VCALENDAR
