BEGIN:VCALENDAR
VERSION:2.0
CALSCALE:GREGORIAN
PRODID:-//Diputació de Barcelona//DibaCMS//EN
BEGIN:VEVENT
UID:3481
DTSTAMP:20260422T121738
DTSTART:20190725T200000
DTEND:20190725T200000
SUMMARY:Recepcio oficial a les esportistes locals: Grup de Ball Candy Flame$, Júlia i Berta Monteagudo pels seus darrers triomfs
LOCATION:Plaça de l'Ajuntament, 1 08254 El Pont de Vilomara i Rocafort
METHOD:PUBLISH
X-WR-CALNAME:info.pont@elpont.cat
X-WR-TIMEZONE:Europe/Madrid
DESCRIPTION:L'Ajuntament rep oficialment a les diferents esporties locals que han trionfat en les seves categories en aquesta temporada.

El Grup de Ball Candy Flame$ capiones del Rock Da House Finals Europe.

La Júlia Monteagudo pel seu campionat d'Espanya per equips de ginmàtica artística.

I la Berta Monteagudo pel seu bronze a la modalitat de  terra al campionat d'Espanya de gimnàstica artística.

L'homenatge a aquestes esportistes es farà a la Sala d'Actes.

Veniu a celebrar-ho amb nosaltres.

URI:https://www.elpont.cat/actualitat/agenda/recepcio-oficial-a-les-esportistes-locals-grup-de-ball-candy-flamedollar-julia-i-berta-monteagudo-pels-seus-darrers-triomfs.html
CLASS:PUBLIC
END:VEVENT
END:VCALENDAR
