BEGIN:VCALENDAR
VERSION:2.0
CALSCALE:GREGORIAN
PRODID:-//Diputació de Barcelona//DibaCMS//EN
BEGIN:VEVENT
UID:3491
DTSTAMP:20260422T212003
DTSTART:20190909T000000
DTEND:20191001T000000
SUMMARY:Homenatge a la Gent Gran 2019 - Exposició de pintures de Teresa Martínez
LOCATION:Plaça Margarida, s/n. 08254 El Pont de Vilomara i Rocafort
METHOD:PUBLISH
X-WR-CALNAME:info.pont@elpont.cat
X-WR-TIMEZONE:Europe/Madrid
DESCRIPTION:Un agradable repàs de les obres d'aquesta artista vilomarenca.

URI:https://www.elpont.cat/actualitat/agenda/homenatge-a-la-gent-gran-2019-exposicio-de-pintures-de-teresa-martinez.html
CLASS:PUBLIC
END:VEVENT
END:VCALENDAR
