BEGIN:VCALENDAR
VERSION:2.0
CALSCALE:GREGORIAN
PRODID:-//Diputació de Barcelona//DibaCMS//EN
BEGIN:VEVENT
UID:3493
DTSTAMP:20260422T180204
DTSTART:20190919T110000
DTEND:20190919T110000
SUMMARY:Homenatge a la Gent Gran 2019 - Caminada saludable amb els avis del poble
LOCATION:Plaça Cooperativa, s/n 08254 El Pont de Vilomara i Rocafort
METHOD:PUBLISH
X-WR-CALNAME:info.pont@elpont.cat
X-WR-TIMEZONE:Europe/Madrid
DESCRIPTION:Activitat oberta a tota la població.

URI:https://www.elpont.cat/actualitat/agenda/homenatge-a-la-gent-gran-2019-caminada-saludable-amb-els-avis-del-poble.html
CLASS:PUBLIC
END:VEVENT
END:VCALENDAR
