BEGIN:VCALENDAR
VERSION:2.0
CALSCALE:GREGORIAN
PRODID:-//Diputació de Barcelona//DibaCMS//EN
BEGIN:VEVENT
UID:3494
DTSTAMP:20260423T024815
DTSTART:20190917T163000
DTEND:20190917T163000
SUMMARY:Homenatge a la Gent Gran 2019 - Bingo especial gent gran
LOCATION:Plaça Margarida, s/n. 08254 El Pont de Vilomara i Rocafort
METHOD:PUBLISH
X-WR-CALNAME:info.pont@elpont.cat
X-WR-TIMEZONE:Europe/Madrid
DESCRIPTION:Amb premis per als guanyadors i guanyadores.

URI:https://www.elpont.cat/actualitat/agenda/homenatge-a-la-gent-gran-2019-bingo-especial-gent-gran.html
CLASS:PUBLIC
END:VEVENT
END:VCALENDAR
