BEGIN:VCALENDAR
VERSION:2.0
CALSCALE:GREGORIAN
PRODID:-//Diputació de Barcelona//DibaCMS//EN
BEGIN:VEVENT
UID:3495
DTSTAMP:20260422T160815
DTSTART:20190919T163000
DTEND:20190919T163000
SUMMARY:Homenatge a la Gent Gran 2019 - Ball per a la gent gran
LOCATION:Plaça Margarida, s/n. 08254 El Pont de Vilomara i Rocafort
METHOD:PUBLISH
X-WR-CALNAME:info.pont@elpont.cat
X-WR-TIMEZONE:Europe/Madrid
DESCRIPTION:Amb l'actuació en directe de "Xarop de Nit".

URI:https://www.elpont.cat/actualitat/agenda/homenatge-a-la-gent-gran-2019-ball-per-a-la-gent-gran.html
CLASS:PUBLIC
END:VEVENT
END:VCALENDAR
