BEGIN:VCALENDAR
VERSION:2.0
CALSCALE:GREGORIAN
PRODID:-//Diputació de Barcelona//DibaCMS//EN
BEGIN:VEVENT
UID:3496
DTSTAMP:20260422T114814
DTSTART:20190920T170000
DTEND:20190920T170000
SUMMARY:Homenatge a la Gent Gran 2019 - Projecció de fotografies antigues del poble
LOCATION:Plaça Margarida, s/n. 08254 El Pont de Vilomara i Rocafort
METHOD:PUBLISH
X-WR-CALNAME:info.pont@elpont.cat
X-WR-TIMEZONE:Europe/Madrid
DESCRIPTION:Reviu la història del nostre poble a través de les imatges.

URI:https://www.elpont.cat/actualitat/agenda/homenatge-a-la-gent-gran-2019-projeccio-de-fotografies-antigues-del-poble.html
CLASS:PUBLIC
END:VEVENT
END:VCALENDAR
