BEGIN:VCALENDAR
VERSION:2.0
CALSCALE:GREGORIAN
PRODID:-//Diputació de Barcelona//DibaCMS//EN
BEGIN:VEVENT
UID:3497
DTSTAMP:20260423T043828
DTSTART:20190922T093000
DTEND:20190922T093000
SUMMARY:Homenatge a la Gent Gran 2019 - Missa d'acció de gràcies
LOCATION:Església de Santa Maria de Rocafort. 
METHOD:PUBLISH
X-WR-CALNAME:info.pont@elpont.cat
X-WR-TIMEZONE:Europe/Madrid
DESCRIPTION:
URI:https://www.elpont.cat/actualitat/agenda/homenatge-a-la-gent-gran-2019-missa-daccio-de-gracies.html
CLASS:PUBLIC
END:VEVENT
END:VCALENDAR
