BEGIN:VCALENDAR
VERSION:2.0
CALSCALE:GREGORIAN
PRODID:-//Diputació de Barcelona//DibaCMS//EN
BEGIN:VEVENT
UID:3498
DTSTAMP:20260422T134346
DTSTART:20190922T104500
DTEND:20190922T104500
SUMMARY:Homenatge a la Gent Gran 2019 - Missa solemne d'acció de gràcies
LOCATION:Església de Santa Maria Magdalena. 
METHOD:PUBLISH
X-WR-CALNAME:info.pont@elpont.cat
X-WR-TIMEZONE:Europe/Madrid
DESCRIPTION:Música a càrrec del cor parroqial Sant Maria Magdalena, amb Cant dels Goigs.

Obsequi d'un ram de flors a la gent gran.

URI:https://www.elpont.cat/actualitat/agenda/homenatge-a-la-gent-gran-2019-missa-solemne-daccio-de-gracies.html
CLASS:PUBLIC
END:VEVENT
END:VCALENDAR
