BEGIN:VCALENDAR
VERSION:2.0
CALSCALE:GREGORIAN
PRODID:-//Diputació de Barcelona//DibaCMS//EN
BEGIN:VEVENT
UID:3499
DTSTAMP:20260422T114117
DTSTART:20190922T120000
DTEND:20190922T120000
SUMMARY:Homenatge a la Gent Gran 2019 - Actuació de l'Esbart Dansaire Vilomarenc
LOCATION:Plaça Major 08254 El Pont de Vilomara i Rocafort
METHOD:PUBLISH
X-WR-CALNAME:info.pont@elpont.cat
X-WR-TIMEZONE:Europe/Madrid
DESCRIPTION:Seguidament després de la missa solemne (hora aproximadada).

URI:https://www.elpont.cat/actualitat/agenda/homenatge-a-la-gent-gran-2019-actuacio-de-lesbart-dansaire-vilomarenc.html
CLASS:PUBLIC
END:VEVENT
END:VCALENDAR
