BEGIN:VCALENDAR
VERSION:2.0
CALSCALE:GREGORIAN
PRODID:-//Diputació de Barcelona//DibaCMS//EN
BEGIN:VEVENT
UID:3500
DTSTAMP:20260422T180405
DTSTART:20190922T163000
DTEND:20190922T163000
SUMMARY:Homenatge a la Gent Gran 2019 - Cercavila dels Gegants i Grallers
LOCATION:Plaça Cooperativa, s/n 08254 El Pont de Vilomara i Rocafort
METHOD:PUBLISH
X-WR-CALNAME:info.pont@elpont.cat
X-WR-TIMEZONE:Europe/Madrid
DESCRIPTION:Amb el Grup d'Infància i Joventut.

URI:https://www.elpont.cat/actualitat/agenda/homenatge-a-la-gent-gran-2019-cercavila-dels-gegants-i-grallers.html
CLASS:PUBLIC
END:VEVENT
END:VCALENDAR
