BEGIN:VCALENDAR
VERSION:2.0
CALSCALE:GREGORIAN
PRODID:-//Diputació de Barcelona//DibaCMS//EN
BEGIN:VEVENT
UID:3501
DTSTAMP:20260423T043955
DTSTART:20190922T170000
DTEND:20190922T170000
SUMMARY:Homenatge a la Gent Gran 2019 - Acte central d'homenatge
LOCATION:Sant Pere Regalat, 18-28 08254 El Pont de Vilomara i Rocafort
METHOD:PUBLISH
X-WR-CALNAME:info.pont@elpont.cat
X-WR-TIMEZONE:Europe/Madrid
DESCRIPTION:
	Espectacle “ESCUDELLA BARREJADA DE MÚSICA I CANÇONS”  a càrrec de les Estrelles del Pont. (muntatge i direcció “Els Atrevits”).
	Entrega d’un obsequi a tots els homenatjats.
	Entrega d’un diploma a les persones que fan 85 anys durant el 2019
	Entrega d’un regal sorpresa als avis de més edat:
	
		CANDELARIA LOZANO FIGUEROLA     14/04/1918
		MARIA GASCON PEDROL                      10/03/1924
		TORCUATO RABANEDA MARTINEZ      23/06/1924
		CONCHITA PUJOL  ALTIMIRAS              20/11/1924        
	
	


 

URI:https://www.elpont.cat/actualitat/agenda/homenatge-a-la-gent-gran-2019-acte-central-dhomenatge.html
CLASS:PUBLIC
END:VEVENT
END:VCALENDAR
