BEGIN:VCALENDAR
VERSION:2.0
CALSCALE:GREGORIAN
PRODID:-//Diputació de Barcelona//DibaCMS//EN
BEGIN:VEVENT
UID:3502
DTSTAMP:20260422T224049
DTSTART:20190923T170000
DTEND:20190923T170000
SUMMARY:Homenatge a la Gent Gran 2019 - Xerrada informatica sobre seguretat ciutadana
LOCATION:Plaça Margarida, s/n. 08254 El Pont de Vilomara i Rocafort
METHOD:PUBLISH
X-WR-CALNAME:info.pont@elpont.cat
X-WR-TIMEZONE:Europe/Madrid
DESCRIPTION:A càrrec de Mossos d'Esquadra.

URI:https://www.elpont.cat/actualitat/agenda/homenatge-a-la-gent-gran-2019-xerrada-informatica-sobre-seguretat-ciutadana.html
CLASS:PUBLIC
END:VEVENT
END:VCALENDAR
