BEGIN:VCALENDAR
VERSION:2.0
CALSCALE:GREGORIAN
PRODID:-//Diputació de Barcelona//DibaCMS//EN
BEGIN:VEVENT
UID:3503
DTSTAMP:20260422T184823
DTSTART:20190924T190000
DTEND:20190924T190000
SUMMARY:Homenatge a la Gent Gran 2019 - Xerrada "El Camí Ral de Manresa a Barcelona pel Coll de Daví"
LOCATION:Sant Pere Regalat, 72, baixos 08254 El Pont de Vilomara i Rocafort
METHOD:PUBLISH
X-WR-CALNAME:info.pont@elpont.cat
X-WR-TIMEZONE:Europe/Madrid
DESCRIPTION:Xerrada al voltant del llegendari camí que passava pel pont antic del Pont de Vilomara a càrrec de Jordi Griera-Cors.

URI:https://www.elpont.cat/actualitat/agenda/homenatge-a-la-gent-gran-2019-xerrada-el-cami-ral-de-manresa-a-barcelona-pel-coll-de-davi.html
CLASS:PUBLIC
END:VEVENT
END:VCALENDAR
