BEGIN:VCALENDAR
VERSION:2.0
CALSCALE:GREGORIAN
PRODID:-//Diputació de Barcelona//DibaCMS//EN
BEGIN:VEVENT
UID:3504
DTSTAMP:20260423T012843
DTSTART:20190925T180000
DTEND:20190925T180000
SUMMARY:Homenatge a la Gent Gran 2019 - Chi Kung per a la salut
LOCATION:Plaça Margarida, s/n. 08254 El Pont de Vilomara i Rocafort
METHOD:PUBLISH
X-WR-CALNAME:info.pont@elpont.cat
X-WR-TIMEZONE:Europe/Madrid
DESCRIPTION:Consells saludables i exercicis activadors.

A càrrec de M. Josep Jiménez Subirana.

URI:https://www.elpont.cat/actualitat/agenda/homenatge-a-la-gent-gran-2019-chi-kung-per-a-la-salut.html
CLASS:PUBLIC
END:VEVENT
END:VCALENDAR
