BEGIN:VCALENDAR
VERSION:2.0
CALSCALE:GREGORIAN
PRODID:-//Diputació de Barcelona//DibaCMS//EN
BEGIN:VEVENT
UID:3507
DTSTAMP:20260423T010750
DTSTART:20190831T090000
DTEND:20190831T090000
SUMMARY:Festa Major Marquet Paradís 2019 - Concurs de petanca
LOCATION:Aparcament del restaurant. 
METHOD:PUBLISH
X-WR-CALNAME:info.pont@elpont.cat
X-WR-TIMEZONE:Europe/Madrid
DESCRIPTION:Per a tots els públics.

URI:https://www.elpont.cat/actualitat/agenda/festa-major-marquet-paradis-2019-concurs-de-petanca.html
CLASS:PUBLIC
END:VEVENT
END:VCALENDAR
