BEGIN:VCALENDAR
VERSION:2.0
CALSCALE:GREGORIAN
PRODID:-//Diputació de Barcelona//DibaCMS//EN
BEGIN:VEVENT
UID:3508
DTSTAMP:20260423T034602
DTSTART:20190831T113000
DTEND:20190831T113000
SUMMARY:Festa Major Marquet Paradís 2019 - Taller de manualitats infantils
LOCATION:Aparcament del restaurant. 
METHOD:PUBLISH
X-WR-CALNAME:info.pont@elpont.cat
X-WR-TIMEZONE:Europe/Madrid
DESCRIPTION:
URI:https://www.elpont.cat/actualitat/agenda/festa-major-marquet-paradis-2019-taller-de-manualitats-infantils.html
CLASS:PUBLIC
END:VEVENT
END:VCALENDAR
