BEGIN:VCALENDAR
VERSION:2.0
CALSCALE:GREGORIAN
PRODID:-//Diputació de Barcelona//DibaCMS//EN
BEGIN:VEVENT
UID:3509
DTSTAMP:20260423T021513
DTSTART:20190831T123000
DTEND:20190831T123000
SUMMARY:Festa Major Marquet Paradís 2019 - Guerra d'aigua amb globus i mànegues
LOCATION:Aparcament del restaurant. 
METHOD:PUBLISH
X-WR-CALNAME:info.pont@elpont.cat
X-WR-TIMEZONE:Europe/Madrid
DESCRIPTION:Sense recorregut

URI:https://www.elpont.cat/actualitat/agenda/festa-major-marquet-paradis-2019-guerra-daigua-amb-globus-i-manegues.html
CLASS:PUBLIC
END:VEVENT
END:VCALENDAR
