BEGIN:VCALENDAR
VERSION:2.0
CALSCALE:GREGORIAN
PRODID:-//Diputació de Barcelona//DibaCMS//EN
BEGIN:VEVENT
UID:3510
DTSTAMP:20260423T011458
DTSTART:20190831T163000
DTEND:20190831T163000
SUMMARY:Festa Major Marquet Paradís 2019 - Gran festa Holi i festa de l'escuma
LOCATION:Aparcament del restaurant. 
METHOD:PUBLISH
X-WR-CALNAME:info.pont@elpont.cat
X-WR-TIMEZONE:Europe/Madrid
DESCRIPTION:Vine a colorejar-te i a ballar.

Hi haurà sorteigs i sorpreses.

Seguirem amb la gran festa de l'escuma

URI:https://www.elpont.cat/actualitat/agenda/festa-major-marquet-paradis-2019-gran-festa-holi-i-festa-de-lescuma.html
CLASS:PUBLIC
END:VEVENT
END:VCALENDAR
