BEGIN:VCALENDAR
VERSION:2.0
CALSCALE:GREGORIAN
PRODID:-//Diputació de Barcelona//DibaCMS//EN
BEGIN:VEVENT
UID:3511
DTSTAMP:20260423T023029
DTSTART:20190831T233000
DTEND:20190831T233000
SUMMARY:Festa Major Marquet Paradís 2019 - Gran ball de Festa Major
LOCATION:Aparcament del restaurant. 
METHOD:PUBLISH
X-WR-CALNAME:info.pont@elpont.cat
X-WR-TIMEZONE:Europe/Madrid
DESCRIPTION:Amb disco mòbil i grup d'animació

URI:https://www.elpont.cat/actualitat/agenda/festa-major-marquet-paradis-2019-gran-ball-de-festa-major.html
CLASS:PUBLIC
END:VEVENT
END:VCALENDAR
