BEGIN:VCALENDAR
VERSION:2.0
CALSCALE:GREGORIAN
PRODID:-//Diputació de Barcelona//DibaCMS//EN
BEGIN:VEVENT
UID:3512
DTSTAMP:20260423T035024
DTSTART:20190901T120000
DTEND:20190901T120000
SUMMARY:Festa Major Marquet Paradís 2019 - Missa de Festa Major
LOCATION:A l'explanada de l'ermita de Matadars 
METHOD:PUBLISH
X-WR-CALNAME:info.pont@elpont.cat
X-WR-TIMEZONE:Europe/Madrid
DESCRIPTION:Oficiada pel Mossèn del Pont de Vilomara i Rocafort.

Seguidament hi haurà un petit refrigeri al mateix lloc.

Qui ho vulgui pot dur el seu menjar perquè així dinarem tots junts.

URI:https://www.elpont.cat/actualitat/agenda/festa-major-marquet-paradis-2019-missa-de-festa-major.html
CLASS:PUBLIC
END:VEVENT
END:VCALENDAR
