BEGIN:VCALENDAR
VERSION:2.0
CALSCALE:GREGORIAN
PRODID:-//Diputació de Barcelona//DibaCMS//EN
BEGIN:VEVENT
UID:3513
DTSTAMP:20260423T022458
DTSTART:20190901T163000
DTEND:20190901T163000
SUMMARY:Festa Major Marquet Paradís 2019 - Ludoteca esportiva amb inflables aqüàtics
LOCATION:Aparcament del restaurant 
METHOD:PUBLISH
X-WR-CALNAME:info.pont@elpont.cat
X-WR-TIMEZONE:Europe/Madrid
DESCRIPTION:
URI:https://www.elpont.cat/actualitat/agenda/festa-major-marquet-paradis-2019-ludoteca-esportiva-amb-inflables-aquatics.html
CLASS:PUBLIC
END:VEVENT
END:VCALENDAR
