BEGIN:VCALENDAR
VERSION:2.0
CALSCALE:GREGORIAN
PRODID:-//Diputació de Barcelona//DibaCMS//EN
BEGIN:VEVENT
UID:3514
DTSTAMP:20260423T035507
DTSTART:20190901T183000
DTEND:20190901T183000
SUMMARY:Festa Major Marquet Paradís 2019 - Final de festa amb gran xocolatada per a tothom
LOCATION:Aparcament del restaurant 
METHOD:PUBLISH
X-WR-CALNAME:info.pont@elpont.cat
X-WR-TIMEZONE:Europe/Madrid
DESCRIPTION:
URI:https://www.elpont.cat/actualitat/agenda/festa-major-marquet-paradis-2019-final-de-festa-amb-gran-xocolatada-per-a-tothom.html
CLASS:PUBLIC
END:VEVENT
END:VCALENDAR
