BEGIN:VCALENDAR
VERSION:2.0
CALSCALE:GREGORIAN
PRODID:-//Diputació de Barcelona//DibaCMS//EN
BEGIN:VEVENT
UID:3517
DTSTAMP:20260423T011446
DTSTART:20190913T220000
DTEND:20190913T220000
SUMMARY:XV Cap de Setmana de la Joventut 2019 - Malgymcana nocturna
LOCATION:Plaça de l'Ajuntament 
METHOD:PUBLISH
X-WR-CALNAME:info.pont@elpont.cat
X-WR-TIMEZONE:Europe/Madrid
DESCRIPTION:La Malgymcana s'organitza amb grups de 5 persones com a mínim majors de 12 anys.

Els menors entre 12 i 16 anys hauran de portar una autorització dels seus pares, mares o tutors/es per poder participar-hi. A més hauran d'anar acompanyats d'una persona adulta.

URI:https://www.elpont.cat/actualitat/agenda/xv-cap-de-setmana-de-la-joventut-2019-malgymcana-nocturna.html
CLASS:PUBLIC
END:VEVENT
END:VCALENDAR
