BEGIN:VCALENDAR
VERSION:2.0
CALSCALE:GREGORIAN
PRODID:-//Diputació de Barcelona//DibaCMS//EN
BEGIN:VEVENT
UID:3518
DTSTAMP:20260422T184005
DTSTART:20190914T190000
DTEND:20190914T190000
SUMMARY:XV Cap de Setmana de la Joventut 2019 - Corre-Tasques
LOCATION:Sortida des de la Plaça de l'Ajuntament 
METHOD:PUBLISH
X-WR-CALNAME:info.pont@elpont.cat
X-WR-TIMEZONE:Europe/Madrid
DESCRIPTION:Una de les activitats més veteranes de la festa. Un recorregut amb música i bon humor pels carrers del poble.

URI:https://www.elpont.cat/actualitat/agenda/xv-cap-de-setmana-de-la-joventut-2019-corre-tasques.html
CLASS:PUBLIC
END:VEVENT
END:VCALENDAR
